BEGIN:VCALENDAR
VERSION:2.0
PRODID:Work
X-PUBLISHED-TTL:P1W
BEGIN:VEVENT
UID:69e74194c20da
DTSTART:20260419T070500Z
SEQUENCE:0
TRANSP:OPAQUE
DTEND:20260419T094900Z
SUMMARY:ESPN HD - AFL: West Coast Eagles vs Fremantle
CLASS:PUBLIC
DTSTAMP:20260421T092124Z
BEGIN:VALARM
TRIGGER:PT0S
ACTION:DISPLAY
END:VALARM
BEGIN:VALARM
TRIGGER:-PT300S
ACTION:DISPLAY
END:VALARM
END:VEVENT
END:VCALENDAR