BEGIN:VCALENDAR
VERSION:2.0
PRODID:Work
X-PUBLISHED-TTL:P1W
BEGIN:VEVENT
UID:69e741a60e9ad
DTSTART:20260419T135600Z
SEQUENCE:0
TRANSP:OPAQUE
DTEND:20260419T155900Z
SUMMARY:ESPN HD - TSL: Samsunspor vs Besiktas
CLASS:PUBLIC
DTSTAMP:20260421T092142Z
BEGIN:VALARM
TRIGGER:PT0S
ACTION:DISPLAY
END:VALARM
BEGIN:VALARM
TRIGGER:-PT300S
ACTION:DISPLAY
END:VALARM
END:VEVENT
END:VCALENDAR