BEGIN:VCALENDAR
VERSION:2.0
PRODID:Work
X-PUBLISHED-TTL:P1W
BEGIN:VEVENT
UID:69e7748228634
DTSTART:20260420T010000Z
SEQUENCE:0
TRANSP:OPAQUE
DTEND:20260420T034000Z
SUMMARY:SuperSport MaXimo 1 - NBA 25/26 P/O G1: Spurs v Blazer
CLASS:PUBLIC
DTSTAMP:20260421T125842Z
BEGIN:VALARM
TRIGGER:PT0S
ACTION:DISPLAY
END:VALARM
BEGIN:VALARM
TRIGGER:-PT300S
ACTION:DISPLAY
END:VALARM
END:VEVENT
END:VCALENDAR