BEGIN:VCALENDAR
VERSION:2.0
PRODID:Work
X-PUBLISHED-TTL:P1W
BEGIN:VEVENT
UID:69e73ec254281
DTSTART:20260421T023000Z
SEQUENCE:0
TRANSP:OPAQUE
DTEND:20260421T051000Z
SUMMARY:SuperSport MaXimo 1 - NBA 25/26 P/O G2: Nuggets v Wolves
CLASS:PUBLIC
DTSTAMP:20260421T090922Z
BEGIN:VALARM
TRIGGER:PT0S
ACTION:DISPLAY
END:VALARM
BEGIN:VALARM
TRIGGER:-PT300S
ACTION:DISPLAY
END:VALARM
END:VEVENT
END:VCALENDAR