BEGIN:VCALENDAR
VERSION:2.0
PRODID:Work
X-PUBLISHED-TTL:P1W
BEGIN:VEVENT
UID:69e7b5aa64626
DTSTART:20260421T141000Z
SEQUENCE:0
TRANSP:OPAQUE
DTEND:20260421T152000Z
SUMMARY:SuperSport School HD - NBL Power Series '26 HSG v AHMP
CLASS:PUBLIC
DTSTAMP:20260421T173642Z
BEGIN:VALARM
TRIGGER:PT0S
ACTION:DISPLAY
END:VALARM
BEGIN:VALARM
TRIGGER:-PT300S
ACTION:DISPLAY
END:VALARM
END:VEVENT
END:VCALENDAR