BEGIN:VCALENDAR
VERSION:2.0
PRODID:Work
X-PUBLISHED-TTL:P1W
BEGIN:VEVENT
UID:69e74189b62b6
DTSTART:20260421T145000Z
SEQUENCE:0
TRANSP:OPAQUE
DTEND:20260421T160000Z
SUMMARY:SuperSport School HD - NBL Power Series '26 Kwaggas v HSP
CLASS:PUBLIC
DTSTAMP:20260421T092113Z
BEGIN:VALARM
TRIGGER:PT0S
ACTION:DISPLAY
END:VALARM
BEGIN:VALARM
TRIGGER:-PT300S
ACTION:DISPLAY
END:VALARM
END:VEVENT
END:VCALENDAR