BEGIN:VCALENDAR
VERSION:2.0
PRODID:Work
X-PUBLISHED-TTL:P1W
BEGIN:VEVENT
UID:69e74e7e1e2ec
DTSTART:20260421T153500Z
SEQUENCE:0
TRANSP:OPAQUE
DTEND:20260421T164500Z
SUMMARY:SuperSport School HD - NBL Power Series '26 Kwaggas v HSP
CLASS:PUBLIC
DTSTAMP:20260421T101630Z
BEGIN:VALARM
TRIGGER:PT0S
ACTION:DISPLAY
END:VALARM
BEGIN:VALARM
TRIGGER:-PT300S
ACTION:DISPLAY
END:VALARM
END:VEVENT
END:VCALENDAR