BEGIN:VCALENDAR
VERSION:2.0
PRODID:Work
X-PUBLISHED-TTL:P1W
BEGIN:VEVENT
UID:69e7cd08a9811
DTSTART:20260421T160000Z
SEQUENCE:0
TRANSP:OPAQUE
DTEND:20260421T180700Z
SUMMARY:ESPN HD - The Pat McAfee Show
CLASS:PUBLIC
DTSTAMP:20260421T191624Z
BEGIN:VALARM
TRIGGER:PT0S
ACTION:DISPLAY
END:VALARM
BEGIN:VALARM
TRIGGER:-PT300S
ACTION:DISPLAY
END:VALARM
END:VEVENT
END:VCALENDAR