BEGIN:VCALENDAR
VERSION:2.0
PRODID:Work
X-PUBLISHED-TTL:P1W
BEGIN:VEVENT
UID:69e7b5a58bcf7
DTSTART:20260421T183700Z
SEQUENCE:0
TRANSP:OPAQUE
DTEND:20260421T203800Z
SUMMARY:ESPN HD - EFL: Leicester City vs Hull City
CLASS:PUBLIC
DTSTAMP:20260421T173637Z
BEGIN:VALARM
TRIGGER:PT0S
ACTION:DISPLAY
END:VALARM
BEGIN:VALARM
TRIGGER:-PT300S
ACTION:DISPLAY
END:VALARM
END:VEVENT
END:VCALENDAR