BEGIN:VCALENDAR
VERSION:2.0
PRODID:Work
X-PUBLISHED-TTL:P1W
BEGIN:VEVENT
UID:69e810a659556
DTSTART:20260421T230000Z
SEQUENCE:0
TRANSP:OPAQUE
DTEND:20260422T013000Z
SUMMARY:ESPN 2 HD - NHL First Round: Bruins @ Sabres (Game
CLASS:PUBLIC
DTSTAMP:20260422T000454Z
BEGIN:VALARM
TRIGGER:PT0S
ACTION:DISPLAY
END:VALARM
BEGIN:VALARM
TRIGGER:-PT300S
ACTION:DISPLAY
END:VALARM
END:VEVENT
END:VCALENDAR