BEGIN:VCALENDAR
VERSION:2.0
PRODID:Work
X-PUBLISHED-TTL:P1W
BEGIN:VEVENT
UID:69e74007d6343
DTSTART:20260422T022500Z
SEQUENCE:0
TRANSP:OPAQUE
DTEND:20260422T050500Z
SUMMARY:SS Action - NBA 25/26 P/O G2: Lakers v Rockets
CLASS:PUBLIC
DTSTAMP:20260421T091447Z
BEGIN:VALARM
TRIGGER:PT0S
ACTION:DISPLAY
END:VALARM
BEGIN:VALARM
TRIGGER:-PT300S
ACTION:DISPLAY
END:VALARM
END:VEVENT
END:VCALENDAR