BEGIN:VCALENDAR
VERSION:2.0
PRODID:Work
X-PUBLISHED-TTL:P1W
BEGIN:VEVENT
UID:69e8250c4aab9
DTSTART:20260422T160000Z
SEQUENCE:0
TRANSP:OPAQUE
DTEND:20260422T180500Z
SUMMARY:ESPN HD - The Pat McAfee Show
CLASS:PUBLIC
DTSTAMP:20260422T013156Z
BEGIN:VALARM
TRIGGER:PT0S
ACTION:DISPLAY
END:VALARM
BEGIN:VALARM
TRIGGER:-PT300S
ACTION:DISPLAY
END:VALARM
END:VEVENT
END:VCALENDAR