BEGIN:VCALENDAR
VERSION:2.0
PRODID:Work
X-PUBLISHED-TTL:P1W
BEGIN:VEVENT
UID:69e8106f2735a
DTSTART:20260422T154000Z
SEQUENCE:0
TRANSP:OPAQUE
DTEND:20260422T200000Z
SUMMARY:SS Grandstand - Int CRI (W) '26: RSA v IND 3rd T20
CLASS:PUBLIC
DTSTAMP:20260422T000359Z
BEGIN:VALARM
TRIGGER:PT0S
ACTION:DISPLAY
END:VALARM
BEGIN:VALARM
TRIGGER:-PT300S
ACTION:DISPLAY
END:VALARM
END:VEVENT
END:VCALENDAR