BEGIN:VCALENDAR
VERSION:2.0
PRODID:Work
X-PUBLISHED-TTL:P1W
BEGIN:VEVENT
UID:69ea66239fb5b
DTSTART:20260423T093000Z
SEQUENCE:0
TRANSP:OPAQUE
DTEND:20260423T103000Z
SUMMARY:SS Variety 2 - Int CRI (W) HL '26: RSA v IND 3rd T20
CLASS:PUBLIC
DTSTAMP:20260423T183411Z
BEGIN:VALARM
TRIGGER:PT0S
ACTION:DISPLAY
END:VALARM
BEGIN:VALARM
TRIGGER:-PT300S
ACTION:DISPLAY
END:VALARM
END:VEVENT
END:VCALENDAR