BEGIN:VCALENDAR
VERSION:2.0
PRODID:Work
X-PUBLISHED-TTL:P1W
BEGIN:VEVENT
UID:69ea2428e05e1
DTSTART:20260423T100000Z
SEQUENCE:0
TRANSP:OPAQUE
DTEND:20260423T110000Z
SUMMARY:SS Motorsport - SBK '26: Dutch SBK Superpole Race
CLASS:PUBLIC
DTSTAMP:20260423T135240Z
BEGIN:VALARM
TRIGGER:PT0S
ACTION:DISPLAY
END:VALARM
BEGIN:VALARM
TRIGGER:-PT300S
ACTION:DISPLAY
END:VALARM
END:VEVENT
END:VCALENDAR