BEGIN:VCALENDAR
VERSION:2.0
PRODID:Work
X-PUBLISHED-TTL:P1W
BEGIN:VEVENT
UID:69ea0b71b3940
DTSTART:20260423T100000Z
SEQUENCE:0
TRANSP:OPAQUE
DTEND:20260423T110000Z
SUMMARY:SS Variety 4 - Sunshine (W) HL '26 Joburg Open D3
CLASS:PUBLIC
DTSTAMP:20260423T120713Z
BEGIN:VALARM
TRIGGER:PT0S
ACTION:DISPLAY
END:VALARM
BEGIN:VALARM
TRIGGER:-PT300S
ACTION:DISPLAY
END:VALARM
END:VEVENT
END:VCALENDAR