BEGIN:VCALENDAR
VERSION:2.0
PRODID:Work
X-PUBLISHED-TTL:P1W
BEGIN:VEVENT
UID:69ea0c034d0b4
DTSTART:20260423T105500Z
SEQUENCE:0
TRANSP:OPAQUE
DTEND:20260423T110000Z
SUMMARY:SuperSport PSL - We are Sport: Benni McCarthy
CLASS:PUBLIC
DTSTAMP:20260423T120939Z
BEGIN:VALARM
TRIGGER:PT0S
ACTION:DISPLAY
END:VALARM
BEGIN:VALARM
TRIGGER:-PT300S
ACTION:DISPLAY
END:VALARM
END:VEVENT
END:VCALENDAR