BEGIN:VCALENDAR
VERSION:2.0
PRODID:Work
X-PUBLISHED-TTL:P1W
BEGIN:VEVENT
UID:69ea0b74b4052
DTSTART:20260423T105500Z
SEQUENCE:0
TRANSP:OPAQUE
DTEND:20260423T111000Z
SUMMARY:SS Variety 3 - ATP1000 HL '26: Madrid Open D1 M2
CLASS:PUBLIC
DTSTAMP:20260423T120716Z
BEGIN:VALARM
TRIGGER:PT0S
ACTION:DISPLAY
END:VALARM
BEGIN:VALARM
TRIGGER:-PT300S
ACTION:DISPLAY
END:VALARM
END:VEVENT
END:VCALENDAR