BEGIN:VCALENDAR
VERSION:2.0
PRODID:Work
X-PUBLISHED-TTL:P1W
BEGIN:VEVENT
UID:69ea2455ac27a
DTSTART:20260423T110000Z
SEQUENCE:0
TRANSP:OPAQUE
DTEND:20260423T113000Z
SUMMARY:SuperSport MaXimo 1 - PL Histórias: Tijani Reijnders
CLASS:PUBLIC
DTSTAMP:20260423T135325Z
BEGIN:VALARM
TRIGGER:PT0S
ACTION:DISPLAY
END:VALARM
BEGIN:VALARM
TRIGGER:-PT300S
ACTION:DISPLAY
END:VALARM
END:VEVENT
END:VCALENDAR