BEGIN:VCALENDAR
VERSION:2.0
PRODID:Work
X-PUBLISHED-TTL:P1W
BEGIN:VEVENT
UID:69ea0d2128e13
DTSTART:20260423T114000Z
SEQUENCE:0
TRANSP:OPAQUE
DTEND:20260423T115500Z
SUMMARY:SS Variety 3 - Fan Central
CLASS:PUBLIC
DTSTAMP:20260423T121425Z
BEGIN:VALARM
TRIGGER:PT0S
ACTION:DISPLAY
END:VALARM
BEGIN:VALARM
TRIGGER:-PT300S
ACTION:DISPLAY
END:VALARM
END:VEVENT
END:VCALENDAR