BEGIN:VCALENDAR
VERSION:2.0
PRODID:Work
X-PUBLISHED-TTL:P1W
BEGIN:VEVENT
UID:69e9f13f3a555
DTSTART:20260423T110000Z
SEQUENCE:0
TRANSP:OPAQUE
DTEND:20260423T120000Z
SUMMARY:SuperSport PSL - PSL Press Conference
CLASS:PUBLIC
DTSTAMP:20260423T101527Z
BEGIN:VALARM
TRIGGER:PT0S
ACTION:DISPLAY
END:VALARM
BEGIN:VALARM
TRIGGER:-PT300S
ACTION:DISPLAY
END:VALARM
END:VEVENT
END:VCALENDAR