BEGIN:VCALENDAR
VERSION:2.0
PRODID:Work
X-PUBLISHED-TTL:P1W
BEGIN:VEVENT
UID:69ea0baf5da30
DTSTART:20260423T113000Z
SEQUENCE:0
TRANSP:OPAQUE
DTEND:20260423T120000Z
SUMMARY:SuperSport MaXimo 1 - Os Maior Estágio do Futebol
CLASS:PUBLIC
DTSTAMP:20260423T120815Z
BEGIN:VALARM
TRIGGER:PT0S
ACTION:DISPLAY
END:VALARM
BEGIN:VALARM
TRIGGER:-PT300S
ACTION:DISPLAY
END:VALARM
END:VEVENT
END:VCALENDAR