BEGIN:VCALENDAR
VERSION:2.0
PRODID:Work
X-PUBLISHED-TTL:P1W
BEGIN:VEVENT
UID:69e740c708e1e
DTSTART:20260423T092700Z
SEQUENCE:0
TRANSP:OPAQUE
DTEND:20260423T121000Z
SUMMARY:ESPN HD - AFL: Western Bulldogs vs Sydney Swans
CLASS:PUBLIC
DTSTAMP:20260421T091759Z
BEGIN:VALARM
TRIGGER:PT0S
ACTION:DISPLAY
END:VALARM
BEGIN:VALARM
TRIGGER:-PT300S
ACTION:DISPLAY
END:VALARM
END:VEVENT
END:VCALENDAR