BEGIN:VCALENDAR
VERSION:2.0
PRODID:Work
X-PUBLISHED-TTL:P1W
BEGIN:VEVENT
UID:69ea6632a06d8
DTSTART:20260423T121500Z
SEQUENCE:0
TRANSP:OPAQUE
DTEND:20260423T124000Z
SUMMARY:SS Rugby - (W)7s WorldChamps HKG SF2: FRA v AUS
CLASS:PUBLIC
DTSTAMP:20260423T183426Z
BEGIN:VALARM
TRIGGER:PT0S
ACTION:DISPLAY
END:VALARM
BEGIN:VALARM
TRIGGER:-PT300S
ACTION:DISPLAY
END:VALARM
END:VEVENT
END:VCALENDAR