BEGIN:VCALENDAR
VERSION:2.0
PRODID:Work
X-PUBLISHED-TTL:P1W
BEGIN:VEVENT
UID:69ea66149e3e3
DTSTART:20260423T124000Z
SEQUENCE:0
TRANSP:OPAQUE
DTEND:20260423T130500Z
SUMMARY:SS Rugby - (W)7s WorldChamps HKG 3rd: CAN v ESP
CLASS:PUBLIC
DTSTAMP:20260423T183356Z
BEGIN:VALARM
TRIGGER:PT0S
ACTION:DISPLAY
END:VALARM
BEGIN:VALARM
TRIGGER:-PT300S
ACTION:DISPLAY
END:VALARM
END:VEVENT
END:VCALENDAR