BEGIN:VCALENDAR
VERSION:2.0
PRODID:Work
X-PUBLISHED-TTL:P1W
BEGIN:VEVENT
UID:69ea0b6bb1d96
DTSTART:20260423T110000Z
SEQUENCE:0
TRANSP:OPAQUE
DTEND:20260423T133000Z
SUMMARY:SS Variety 2 - Ironman '26: Memorial Hermann (M/W)
CLASS:PUBLIC
DTSTAMP:20260423T120707Z
BEGIN:VALARM
TRIGGER:PT0S
ACTION:DISPLAY
END:VALARM
BEGIN:VALARM
TRIGGER:-PT300S
ACTION:DISPLAY
END:VALARM
END:VEVENT
END:VCALENDAR