BEGIN:VCALENDAR
VERSION:2.0
PRODID:Work
X-PUBLISHED-TTL:P1W
BEGIN:VEVENT
UID:69ea23e71489c
DTSTART:20260423T130500Z
SEQUENCE:0
TRANSP:OPAQUE
DTEND:20260423T134000Z
SUMMARY:SS Rugby - (W)7s WorldChamps HKG Final: NZL v AUS
CLASS:PUBLIC
DTSTAMP:20260423T135135Z
BEGIN:VALARM
TRIGGER:PT0S
ACTION:DISPLAY
END:VALARM
BEGIN:VALARM
TRIGGER:-PT300S
ACTION:DISPLAY
END:VALARM
END:VEVENT
END:VCALENDAR