BEGIN:VCALENDAR
VERSION:2.0
PRODID:Work
X-PUBLISHED-TTL:P1W
BEGIN:VEVENT
UID:69ea66100ee6f
DTSTART:20260423T125000Z
SEQUENCE:0
TRANSP:OPAQUE
DTEND:20260423T135000Z
SUMMARY:SS Cricket - IPL HL '26: LSG v RR
CLASS:PUBLIC
DTSTAMP:20260423T183352Z
BEGIN:VALARM
TRIGGER:PT0S
ACTION:DISPLAY
END:VALARM
BEGIN:VALARM
TRIGGER:-PT300S
ACTION:DISPLAY
END:VALARM
END:VEVENT
END:VCALENDAR