BEGIN:VCALENDAR
VERSION:2.0
PRODID:Work
X-PUBLISHED-TTL:P1W
BEGIN:VEVENT
UID:69ea3bcbf3dbc
DTSTART:20260423T120000Z
SEQUENCE:0
TRANSP:OPAQUE
DTEND:20260423T140000Z
SUMMARY:SS Football - CCC 25/26 SF: Zamalek v CR Belouizdad
CLASS:PUBLIC
DTSTAMP:20260423T153331Z
BEGIN:VALARM
TRIGGER:PT0S
ACTION:DISPLAY
END:VALARM
BEGIN:VALARM
TRIGGER:-PT300S
ACTION:DISPLAY
END:VALARM
END:VEVENT
END:VCALENDAR