BEGIN:VCALENDAR
VERSION:2.0
PRODID:Work
X-PUBLISHED-TTL:P1W
BEGIN:VEVENT
UID:69ea239e42a43
DTSTART:20260423T120000Z
SEQUENCE:0
TRANSP:OPAQUE
DTEND:20260423T140000Z
SUMMARY:SS Variety 4 - ATP500 '26: BMW Open Final
CLASS:PUBLIC
DTSTAMP:20260423T135022Z
BEGIN:VALARM
TRIGGER:PT0S
ACTION:DISPLAY
END:VALARM
BEGIN:VALARM
TRIGGER:-PT300S
ACTION:DISPLAY
END:VALARM
END:VEVENT
END:VCALENDAR