BEGIN:VCALENDAR
VERSION:2.0
PRODID:Work
X-PUBLISHED-TTL:P1W
BEGIN:VEVENT
UID:69ea0bcf9ac52
DTSTART:20260423T133000Z
SEQUENCE:0
TRANSP:OPAQUE
DTEND:20260423T140000Z
SUMMARY:SS Variety 2 - PGA of SA Senior Champs '26
CLASS:PUBLIC
DTSTAMP:20260423T120847Z
BEGIN:VALARM
TRIGGER:PT0S
ACTION:DISPLAY
END:VALARM
BEGIN:VALARM
TRIGGER:-PT300S
ACTION:DISPLAY
END:VALARM
END:VEVENT
END:VCALENDAR