BEGIN:VCALENDAR
VERSION:2.0
PRODID:Work
X-PUBLISHED-TTL:P1W
BEGIN:VEVENT
UID:69ea0c2b6dd18
DTSTART:20260423T134000Z
SEQUENCE:0
TRANSP:OPAQUE
DTEND:20260423T140500Z
SUMMARY:SS Rugby - 7s World Champs '26 HKG QF1: FRA v NZL
CLASS:PUBLIC
DTSTAMP:20260423T121019Z
BEGIN:VALARM
TRIGGER:PT0S
ACTION:DISPLAY
END:VALARM
BEGIN:VALARM
TRIGGER:-PT300S
ACTION:DISPLAY
END:VALARM
END:VEVENT
END:VCALENDAR