BEGIN:VCALENDAR
VERSION:2.0
PRODID:Work
X-PUBLISHED-TTL:P1W
BEGIN:VEVENT
UID:69ea0c3e35e45
DTSTART:20260423T141500Z
SEQUENCE:0
TRANSP:OPAQUE
DTEND:20260423T142000Z
SUMMARY:SuperSport School HD - SuperSport Schools Feature
CLASS:PUBLIC
DTSTAMP:20260423T121038Z
BEGIN:VALARM
TRIGGER:PT0S
ACTION:DISPLAY
END:VALARM
BEGIN:VALARM
TRIGGER:-PT300S
ACTION:DISPLAY
END:VALARM
END:VEVENT
END:VCALENDAR