BEGIN:VCALENDAR
VERSION:2.0
PRODID:Work
X-PUBLISHED-TTL:P1W
BEGIN:VEVENT
UID:69ea0c064e3be
DTSTART:20260423T140500Z
SEQUENCE:0
TRANSP:OPAQUE
DTEND:20260423T143000Z
SUMMARY:SS Rugby - 7s World Champs '26 HKG QF2: RSA v KEN
CLASS:PUBLIC
DTSTAMP:20260423T120942Z
BEGIN:VALARM
TRIGGER:PT0S
ACTION:DISPLAY
END:VALARM
BEGIN:VALARM
TRIGGER:-PT300S
ACTION:DISPLAY
END:VALARM
END:VEVENT
END:VCALENDAR