BEGIN:VCALENDAR
VERSION:2.0
PRODID:Work
X-PUBLISHED-TTL:P1W
BEGIN:VEVENT
UID:69ea0b244358f
DTSTART:20260423T140000Z
SEQUENCE:0
TRANSP:OPAQUE
DTEND:20260423T150000Z
SUMMARY:SS Variety 2 - DP World HL 25/26: China Open D1
CLASS:PUBLIC
DTSTAMP:20260423T120556Z
BEGIN:VALARM
TRIGGER:PT0S
ACTION:DISPLAY
END:VALARM
BEGIN:VALARM
TRIGGER:-PT300S
ACTION:DISPLAY
END:VALARM
END:VEVENT
END:VCALENDAR