BEGIN:VCALENDAR
VERSION:2.0
PRODID:Work
X-PUBLISHED-TTL:P1W
BEGIN:VEVENT
UID:69ea3bbcf30c1
DTSTART:20260423T150000Z
SEQUENCE:0
TRANSP:OPAQUE
DTEND:20260423T152500Z
SUMMARY:ESPN 2 HD - Pardon the Interruption
CLASS:PUBLIC
DTSTAMP:20260423T153316Z
BEGIN:VALARM
TRIGGER:PT0S
ACTION:DISPLAY
END:VALARM
BEGIN:VALARM
TRIGGER:-PT300S
ACTION:DISPLAY
END:VALARM
END:VEVENT
END:VCALENDAR