BEGIN:VCALENDAR
VERSION:2.0
PRODID:Work
X-PUBLISHED-TTL:P1W
BEGIN:VEVENT
UID:69ea0bb25e3f1
DTSTART:20260423T131400Z
SEQUENCE:0
TRANSP:OPAQUE
DTEND:20260423T152900Z
SUMMARY:SuperSport OTT - FIBA 3X3
CLASS:PUBLIC
DTSTAMP:20260423T120818Z
BEGIN:VALARM
TRIGGER:PT0S
ACTION:DISPLAY
END:VALARM
BEGIN:VALARM
TRIGGER:-PT300S
ACTION:DISPLAY
END:VALARM
END:VEVENT
END:VCALENDAR