BEGIN:VCALENDAR
VERSION:2.0
PRODID:Work
X-PUBLISHED-TTL:P1W
BEGIN:VEVENT
UID:69ea0b6eb28d1
DTSTART:20260423T152500Z
SEQUENCE:0
TRANSP:OPAQUE
DTEND:20260423T155000Z
SUMMARY:ESPN 2 HD - NBA Action
CLASS:PUBLIC
DTSTAMP:20260423T120710Z
BEGIN:VALARM
TRIGGER:PT0S
ACTION:DISPLAY
END:VALARM
BEGIN:VALARM
TRIGGER:-PT300S
ACTION:DISPLAY
END:VALARM
END:VEVENT
END:VCALENDAR