BEGIN:VCALENDAR
VERSION:2.0
PRODID:Work
X-PUBLISHED-TTL:P1W
BEGIN:VEVENT
UID:69ea242337c57
DTSTART:20260423T100000Z
SEQUENCE:0
TRANSP:OPAQUE
DTEND:20260423T160000Z
SUMMARY:SuperSport OTT 6 - SuperSport Variety
CLASS:PUBLIC
DTSTAMP:20260423T135235Z
BEGIN:VALARM
TRIGGER:PT0S
ACTION:DISPLAY
END:VALARM
BEGIN:VALARM
TRIGGER:-PT300S
ACTION:DISPLAY
END:VALARM
END:VEVENT
END:VCALENDAR