BEGIN:VCALENDAR
VERSION:2.0
PRODID:Work
X-PUBLISHED-TTL:P1W
BEGIN:VEVENT
UID:69ea0b1a672b6
DTSTART:20260423T140000Z
SEQUENCE:0
TRANSP:OPAQUE
DTEND:20260423T160000Z
SUMMARY:SS Football - CCC 25/26 SF: Olympic v USM Alger
CLASS:PUBLIC
DTSTAMP:20260423T120546Z
BEGIN:VALARM
TRIGGER:PT0S
ACTION:DISPLAY
END:VALARM
BEGIN:VALARM
TRIGGER:-PT300S
ACTION:DISPLAY
END:VALARM
END:VEVENT
END:VCALENDAR