BEGIN:VCALENDAR
VERSION:2.0
PRODID:Work
X-PUBLISHED-TTL:P1W
BEGIN:VEVENT
UID:69ea0c1de4bcb
DTSTART:20260423T140000Z
SEQUENCE:0
TRANSP:OPAQUE
DTEND:20260423T160000Z
SUMMARY:SS Variety 3 - Amstel Gold Race '26: (M) Elite Race
CLASS:PUBLIC
DTSTAMP:20260423T121005Z
BEGIN:VALARM
TRIGGER:PT0S
ACTION:DISPLAY
END:VALARM
BEGIN:VALARM
TRIGGER:-PT300S
ACTION:DISPLAY
END:VALARM
END:VEVENT
END:VCALENDAR