BEGIN:VCALENDAR
VERSION:2.0
PRODID:Work
X-PUBLISHED-TTL:P1W
BEGIN:VEVENT
UID:69ea0b17666ea
DTSTART:20260423T153000Z
SEQUENCE:0
TRANSP:OPAQUE
DTEND:20260423T160000Z
SUMMARY:SS Premier League - PL: The Big Interview
CLASS:PUBLIC
DTSTAMP:20260423T120543Z
BEGIN:VALARM
TRIGGER:PT0S
ACTION:DISPLAY
END:VALARM
BEGIN:VALARM
TRIGGER:-PT300S
ACTION:DISPLAY
END:VALARM
END:VEVENT
END:VCALENDAR