BEGIN:VCALENDAR
VERSION:2.0
PRODID:Work
X-PUBLISHED-TTL:P1W
BEGIN:VEVENT
UID:69ea0bdc0f6b1
DTSTART:20260423T155500Z
SEQUENCE:0
TRANSP:OPAQUE
DTEND:20260423T160000Z
SUMMARY:SuperSport MaXimo 1 - Ligue1 25/26: PSG v Nantes
CLASS:PUBLIC
DTSTAMP:20260423T120900Z
BEGIN:VALARM
TRIGGER:PT0S
ACTION:DISPLAY
END:VALARM
BEGIN:VALARM
TRIGGER:-PT300S
ACTION:DISPLAY
END:VALARM
END:VEVENT
END:VCALENDAR