BEGIN:VCALENDAR
VERSION:2.0
PRODID:Work
X-PUBLISHED-TTL:P1W
BEGIN:VEVENT
UID:69ea0c3833ec0
DTSTART:20260423T160000Z
SEQUENCE:0
TRANSP:OPAQUE
DTEND:20260423T160500Z
SUMMARY:SuperSport MaXimo 1 - LI Destaque 25/26: Burnley v Man City
CLASS:PUBLIC
DTSTAMP:20260423T121032Z
BEGIN:VALARM
TRIGGER:PT0S
ACTION:DISPLAY
END:VALARM
BEGIN:VALARM
TRIGGER:-PT300S
ACTION:DISPLAY
END:VALARM
END:VEVENT
END:VCALENDAR