BEGIN:VCALENDAR
VERSION:2.0
PRODID:Work
X-PUBLISHED-TTL:P1W
BEGIN:VEVENT
UID:69ea0c3ce62af
DTSTART:20260423T154500Z
SEQUENCE:0
TRANSP:OPAQUE
DTEND:20260423T161000Z
SUMMARY:SS Rugby - 7s World Champs '26 HKG 9th: GBR v URU
CLASS:PUBLIC
DTSTAMP:20260423T121036Z
BEGIN:VALARM
TRIGGER:PT0S
ACTION:DISPLAY
END:VALARM
BEGIN:VALARM
TRIGGER:-PT300S
ACTION:DISPLAY
END:VALARM
END:VEVENT
END:VCALENDAR