BEGIN:VCALENDAR
VERSION:2.0
PRODID:Work
X-PUBLISHED-TTL:P1W
BEGIN:VEVENT
UID:69ea0c715c491
DTSTART:20260423T142500Z
SEQUENCE:0
TRANSP:OPAQUE
DTEND:20260423T162500Z
SUMMARY:SuperSport LaLiga - LaLiga 25/26: Barcelona v C Vigo
CLASS:PUBLIC
DTSTAMP:20260423T121129Z
BEGIN:VALARM
TRIGGER:PT0S
ACTION:DISPLAY
END:VALARM
BEGIN:VALARM
TRIGGER:-PT300S
ACTION:DISPLAY
END:VALARM
END:VEVENT
END:VCALENDAR