BEGIN:VCALENDAR
VERSION:2.0
PRODID:Work
X-PUBLISHED-TTL:P1W
BEGIN:VEVENT
UID:69ea0d2b29614
DTSTART:20260423T155000Z
SEQUENCE:0
TRANSP:OPAQUE
DTEND:20260423T163000Z
SUMMARY:ESPN 2 HD - SportsCenter
CLASS:PUBLIC
DTSTAMP:20260423T121435Z
BEGIN:VALARM
TRIGGER:PT0S
ACTION:DISPLAY
END:VALARM
BEGIN:VALARM
TRIGGER:-PT300S
ACTION:DISPLAY
END:VALARM
END:VEVENT
END:VCALENDAR