BEGIN:VCALENDAR
VERSION:2.0
PRODID:Work
X-PUBLISHED-TTL:P1W
BEGIN:VEVENT
UID:69ea244baaec2
DTSTART:20260423T161000Z
SEQUENCE:0
TRANSP:OPAQUE
DTEND:20260423T163500Z
SUMMARY:SS Rugby - 7s World Champs '26 HKG 7th: FRA v KEN
CLASS:PUBLIC
DTSTAMP:20260423T135315Z
BEGIN:VALARM
TRIGGER:PT0S
ACTION:DISPLAY
END:VALARM
BEGIN:VALARM
TRIGGER:-PT300S
ACTION:DISPLAY
END:VALARM
END:VEVENT
END:VCALENDAR