BEGIN:VCALENDAR
VERSION:2.0
PRODID:Work
X-PUBLISHED-TTL:P1W
BEGIN:VEVENT
UID:69ea3bb2f2fe0
DTSTART:20260423T162500Z
SEQUENCE:0
TRANSP:OPAQUE
DTEND:20260423T164000Z
SUMMARY:SuperSport LaLiga - LaLiga Goals 25/26: MD 30
CLASS:PUBLIC
DTSTAMP:20260423T153306Z
BEGIN:VALARM
TRIGGER:PT0S
ACTION:DISPLAY
END:VALARM
BEGIN:VALARM
TRIGGER:-PT300S
ACTION:DISPLAY
END:VALARM
END:VEVENT
END:VCALENDAR