BEGIN:VCALENDAR
VERSION:2.0
PRODID:Work
X-PUBLISHED-TTL:P1W
BEGIN:VEVENT
UID:69ea0ba7d5b37
DTSTART:20260423T163000Z
SEQUENCE:0
TRANSP:OPAQUE
DTEND:20260423T170000Z
SUMMARY:SS Premier League - PL HL 25/26: B'mouth v Leeds
CLASS:PUBLIC
DTSTAMP:20260423T120807Z
BEGIN:VALARM
TRIGGER:PT0S
ACTION:DISPLAY
END:VALARM
BEGIN:VALARM
TRIGGER:-PT300S
ACTION:DISPLAY
END:VALARM
END:VEVENT
END:VCALENDAR